BEGIN:VCALENDAR
VERSION:2.0
PRODID:-//eventon.com NONSGML v1.0//EN
CALSCALE:GREGORIAN
METHOD:PUBLISH
BEGIN:VEVENT
UID:69e9f69e64e40
DTSTAMP:20260423T103822Z
DTSTART:20231011T180000Z
DTEND:20231011T215000Z
LOCATION:Kulturzentrum Franzis D - 35578 Wetzlar- Germany
SUMMARY:Kulturzentrum Franzis
DESCRIPTION:Das Franzis ist der Veranstaltungsort des Fördervereins Kultur
 zentrum Wetzlar e.V.\,  der im Jahr 1992 gegründet wurde.&nbsp; Wir haben 
 uns zum Ziel gesetzt\,  das Kulturangebot in Wetzlar zu erweitern. (Detaill
 ierte Informationen in unserer Satzung). Als Pächter der ehemaligen “Lei
 tzbaracken” haben wir uns zur Instandhaltung der Vereinsräume verpflicht
 et; die hier anfallenden Kosten[..]\nhttps://robertlarochemusic.com/events/
 cinco-de-mayo-celebration-at-hard-rock-cafe-time-square-nyc-with-patricia-v
 onne-2-2-2/
URL:https://robertlarochemusic.com/events/cinco-de-mayo-celebration-at-hard-rock-cafe-time-square-nyc-with-patricia-vonne-2-2-2/
END:VEVENT
END:VCALENDAR