BEGIN:VCALENDAR
VERSION:2.0
PRODID:-//eventon.com NONSGML v1.0//EN
CALSCALE:GREGORIAN
METHOD:PUBLISH
BEGIN:VEVENT
UID:69e74e7248100
DTSTAMP:20260421T101618Z
DTSTART:20221020T180000Z
DTEND:20221020T215000Z
LOCATION:Hotjazz Club Hafenweg 26b\,  48155 Münster\,  Germany
SUMMARY:Hotjazz Club
DESCRIPTION:\nhttps://robertlarochemusic.com/events/hotjazz-club/
URL:https://robertlarochemusic.com/events/hotjazz-club/
END:VEVENT
END:VCALENDAR