BEGIN:VCALENDAR
VERSION:2.0
PRODID:-//eventon.com NONSGML v1.0//EN
CALSCALE:GREGORIAN
METHOD:PUBLISH
BEGIN:VEVENT
UID:69e731381e250
DTSTAMP:20260421T081136Z
DTSTART:20251008T180000Z
DTEND:20251008T215900Z
LOCATION:Haus Eifgen Eifgen 1\,  42929 Wermelskirchen\,  Germany
SUMMARY:Haus Eifgen
DESCRIPTION:Haus Eifgen\nhttps://robertlarochemusic.com/events/haus-eifgen-
 2-2/
URL:https://robertlarochemusic.com/events/haus-eifgen-2-2/
END:VEVENT
END:VCALENDAR