BEGIN:VCALENDAR
VERSION:2.0
PRODID:-//eventon.com NONSGML v1.0//EN
CALSCALE:GREGORIAN
METHOD:PUBLISH
BEGIN:VEVENT
UID:69e8c083d19f9
DTSTAMP:20260422T123515Z
DTSTART:20260430T180000Z
DTEND:20260430T215900Z
LOCATION:Club am Donnerstag Nettelnburger Strasse 6 b\,  21035 Hamburg\,  Germany
SUMMARY:Club Am Donnerstag
DESCRIPTION:Club Am Donnerstag\nhttps://robertlarochemusic.com/events/club-
 am-donnerstag-3/
URL:https://robertlarochemusic.com/events/club-am-donnerstag-3/
END:VEVENT
END:VCALENDAR